BEGIN:VCALENDAR
PRODID:http://wibix.de/infusions/pro_download_panel/download.php?did=27
VERSION:2.0
METHOD:PUBLISH
BEGIN:VEVENT
DTSTART:20150430T080000Z
DTEND:20150430T160000Z
UID:1@https://radio-tuning-beatz.de/
DTSTAMP:20150316T034022Z
DESCRIPTION:&lt;!--BREAK--&gt; [img]http://radio-tuning-beatz.de/images/rtb/veranstaltungen/tuning.jpg[/img]\n\n\nÃ–ffnungszeiten\nDonnerstag 30. April bis Sonntag 03. Mai 2015\ntÃ¤glich von 10:00 bis 18:00 Uhr\n\n\nEintrittspreise\n\n\nTageskarte                                                                 13 EUR\n\n\nErmÃ¤ÃŸigte Tageskarte                                                 11 EUR\n(gegen Vorlage eines Ausweises: Kinder von 6-14 Jahre, SchÃ¼ler, Studenten, Behinderte, Inhaber SchwÃ¤bische Zeitung AboKarte, ADAC-Mitglieder, Gruppen ab 20 Personen (pro Person))\n	\n\n2-Tageskarte (gÃ¼ltig fÃ¼r 1 Person an 2 Tagen)             24 EUR\n\nFamilienkarte                                                               30 EUR\n(2 Erwachsene und Kinder von 6-14 Jahre)\n\n\nMesseparkplÃ¤tze sind kostenfrei!
SUMMARY:Tuning World 2015
LOCATION:Friedrichshafen
CLASS:PUBLIC
RRULE:FREQ=DAILY;INTERVAL=1;UNTIL=20150502T220000Z
END:VEVENT
END:VCALENDAR
